BEGIN:VCALENDAR
VERSION:2.0
PRODID:-//TKS LOK - ECPv6.15.20//NONSGML v1.0//EN
CALSCALE:GREGORIAN
METHOD:PUBLISH
X-ORIGINAL-URL:http://tkslok.pl
X-WR-CALDESC:Wydarzenia dla TKS LOK
REFRESH-INTERVAL;VALUE=DURATION:PT1H
X-Robots-Tag:noindex
X-PUBLISHED-TTL:PT1H
BEGIN:VTIMEZONE
TZID:Europe/Warsaw
BEGIN:DAYLIGHT
TZOFFSETFROM:+0100
TZOFFSETTO:+0200
TZNAME:CEST
DTSTART:20140330T010000
END:DAYLIGHT
BEGIN:STANDARD
TZOFFSETFROM:+0200
TZOFFSETTO:+0100
TZNAME:CET
DTSTART:20141026T010000
END:STANDARD
BEGIN:DAYLIGHT
TZOFFSETFROM:+0100
TZOFFSETTO:+0200
TZNAME:CEST
DTSTART:20150329T010000
END:DAYLIGHT
BEGIN:STANDARD
TZOFFSETFROM:+0200
TZOFFSETTO:+0100
TZNAME:CET
DTSTART:20151025T010000
END:STANDARD
BEGIN:DAYLIGHT
TZOFFSETFROM:+0100
TZOFFSETTO:+0200
TZNAME:CEST
DTSTART:20160327T010000
END:DAYLIGHT
BEGIN:STANDARD
TZOFFSETFROM:+0200
TZOFFSETTO:+0100
TZNAME:CET
DTSTART:20161030T010000
END:STANDARD
END:VTIMEZONE
BEGIN:VEVENT
DTSTART;VALUE=DATE:20150206
DTEND;VALUE=DATE:20150209
DTSTAMP:20260422T013926
CREATED:20150107T135144Z
LAST-MODIFIED:20150126T150435Z
UID:720-1423180800-1423439999@tkslok.pl
SUMMARY:Zawody Klasyfikacyjne Zaślubiny z Morzem
DESCRIPTION:
URL:http://tkslok.pl/event/zawody-klasyfikacyjne-zaslubiny-z-morzem/
LOCATION:Puck\, Lipowa 3c\, Puck\, 84-100\, Polska
END:VEVENT
BEGIN:VEVENT
DTSTART;VALUE=DATE:20150107
DTEND;VALUE=DATE:20150108
DTSTAMP:20260422T013926
CREATED:20150107T134424Z
LAST-MODIFIED:20150107T134424Z
UID:717-1420588800-1420675199@tkslok.pl
SUMMARY:Egzamin na patent PZSS
DESCRIPTION:
URL:http://tkslok.pl/event/egzamin-na-patent-pzss/
LOCATION:Strzelnica pasternik\, Pasternik 128\, Kraków\, 31-354\, Polska
END:VEVENT
END:VCALENDAR